BEGIN:VCALENDAR
VERSION:2.0
PRODID:Events Booking
BEGIN:VEVENT
UID:69e8ced10f780
SUMMARY:USPS/ABC - Foothills Park - LO
DESCRIPTION:
DTSTART:20260918T070000Z
DTEND:20260920T070000Z
DTSTAMP:20260124T012708Z
ORGANIZER;CN=Columbia River Yachting Association:MAILTO:info@crya.us
END:VEVENT
END:VCALENDAR