BEGIN:VCALENDAR
VERSION:2.0
PRODID:Events Booking
BEGIN:VEVENT
UID:69e89d2a1ffd2
SUMMARY:RCYC - Westport OR
DESCRIPTION:
LOCATION:a
DTSTART:20260721T070000Z
DTEND:20260722T070000Z
DTSTAMP:20260124T002437Z
ORGANIZER;CN=Columbia River Yachting Association:MAILTO:info@crya.us
END:VEVENT
END:VCALENDAR