BEGIN:VCALENDAR
VERSION:2.0
PRODID:Events Booking
BEGIN:VEVENT
UID:69e89e1bcb247
SUMMARY:RCYC - Walker Island
DESCRIPTION:
LOCATION:a
DTSTART:20260719T070000Z
DTSTAMP:20260124T001641Z
ORGANIZER;CN=Columbia River Yachting Association:MAILTO:info@crya.us
END:VEVENT
END:VCALENDAR