BEGIN:VCALENDAR
VERSION:2.0
PRODID:Events Booking
BEGIN:VEVENT
UID:69e89d9764dd0
SUMMARY:RCYC - Schwitters Landing
DESCRIPTION:
LOCATION:HFHH+P5 Portland\, OR\, USA
DTSTART:20260807T070000Z
DTEND:20260809T070000Z
DTSTAMP:20260124T003726Z
ORGANIZER;CN=Columbia River Yachting Association:MAILTO:info@crya.us
GEO:45.579488;-122.51565
X-APPLE-STRUCTURED-LOCATION;VALUE=URI;X-ADDRESS=HFHH+P5 Portland\, OR\, USA
 ;X-APPLE-RADIUS=72;X-TITLE=Schwitter's Landing:45.579488;-122.51565
END:VEVENT
END:VCALENDAR