BEGIN:VCALENDAR
VERSION:2.0
PRODID:Events Booking
BEGIN:VEVENT
UID:69e89e826c3c3
SUMMARY:RCYC - Kalama
DESCRIPTION:
LOCATION:a
DTSTART:20260718T070000Z
DTSTAMP:20260124T001538Z
ORGANIZER;CN=Columbia River Yachting Association:MAILTO:info@crya.us
END:VEVENT
END:VCALENDAR