BEGIN:VCALENDAR
VERSION:2.0
PRODID:Events Booking
BEGIN:VEVENT
UID:69e89f6ac2192
SUMMARY:RCYC - JJ Collins Marine Park
DESCRIPTION:
LOCATION:Multnomah Channel
DTSTART:20260522T070000Z
DTEND:20260524T070000Z
DTSTAMP:20260119T023521Z
ORGANIZER;CN=Columbia River Yachting Association:MAILTO:info@crya.us
END:VEVENT
END:VCALENDAR