BEGIN:VCALENDAR
VERSION:2.0
PRODID:Events Booking
BEGIN:VEVENT
UID:69e8b44eb8e8e
SUMMARY:RCYC - Cathlamet
DESCRIPTION:
LOCATION:a
DTSTART:20260723T070000Z
DTEND:20260724T070000Z
DTSTAMP:20260124T002644Z
ORGANIZER;CN=Columbia River Yachting Association:MAILTO:info@crya.us
END:VEVENT
END:VCALENDAR