BEGIN:VCALENDAR
VERSION:2.0
PRODID:Events Booking
BEGIN:VEVENT
UID:69e89ea24a641
SUMMARY:RCYC - Beacon Rock
DESCRIPTION:
LOCATION:a
DTSTART:20260904T070000Z
DTEND:20260906T070000Z
DTSTAMP:20260124T011845Z
ORGANIZER;CN=Columbia River Yachting Association:MAILTO:info@crya.us
END:VEVENT
END:VCALENDAR