BEGIN:VCALENDAR
VERSION:2.0
PRODID:Events Booking
BEGIN:VEVENT
UID:69e63411bb390
SUMMARY:JJ Collins Marine Park East - CRSA
DESCRIPTION:
LOCATION:Multnomah Channel
DTSTART:20251017T190000Z
DTEND:20251019T190000Z
DTSTAMP:20250103T034015Z
ORGANIZER;CN=Columbia River Yachting Association:MAILTO:info@crya.us
END:VEVENT
END:VCALENDAR