BEGIN:VCALENDAR
VERSION:2.0
PRODID:Events Booking
BEGIN:VEVENT
UID:69e81fda82356
SUMMARY:CRYA Annual Dinner
DESCRIPTION:
LOCATION:1241 NE Marine Dr\, Portland\, OR 97217\, USA
DTSTART:20261021T010000Z
DTEND:20261021T040000Z
DTSTAMP:20260312T215133Z
ORGANIZER;CN=Columbia River Yachting Association:MAILTO:info@crya.us
GEO:45.60073;-122.652025
X-APPLE-STRUCTURED-LOCATION;VALUE=URI;X-ADDRESS=1241 NE Marine Dr\, Portlan
 d\, OR 97217\, USA;X-APPLE-RADIUS=72;X-TITLE=Portland Yacht Club:45.60073;
 -122.652025
END:VEVENT
END:VCALENDAR